BEGIN:VCALENDAR
VERSION:2.0
PRODID:-//Plone.org//NONSGML plone.app.event//EN
X-WR-TIMEZONE:Europe/Madrid
BEGIN:VEVENT
SUMMARY:Dia internacional LGTBIQ+
DTSTART;VALUE=DATE:20260628
DTEND;VALUE=DATE:20260629
DTSTAMP:20260420T182121Z
UID:c4dfa75db37349d29c37780e440feb7c@foot.upc.edu
CREATED:20250610T115718Z
LAST-MODIFIED:20250610T120242Z
URL:https://foot.upc.edu/ca/esdeveniments/dia-internacional-lgtbiq-2
END:VEVENT
END:VCALENDAR
